BEGIN:VCALENDAR
METHOD:PUBLISH
PRODID:-//Weblication CMS
VERSION:2.0
BEGIN:VEVENT
SUMMARY:39. Internationales Sportfest des SCL
DTSTART:20190907T130000
DTEND:20190907T170000
DESCRIPTION:Das Sportfest des SCL Sportclub Lebenshilfe Berlin e.V. für Menschen mit und ohne Handicap. Sport, Spiel und Spaß ohne Leistungsdruck. Lust mitzumachen, als Sportler oder Helfer? Dann bitte anmelden!
LOCATION:
UID:https://www.lebenshilfe-berlin.de/de/veranstaltungen/termine/Sportfest-SCL.php
URL:https://www.lebenshilfe-berlin.de/de/veranstaltungen/termine/Sportfest-SCL.php
END:VEVENT
END:VCALENDAR